BEGIN:VCALENDAR
VERSION:2.0
PRODID:-//wp-events-plugin.com//7.2.3.1//EN
TZID:Europe/London
X-WR-TIMEZONE:Europe/London
BEGIN:VEVENT
UID:57@friendsofenglishdance.org.uk
DTSTART;TZID=Europe/London:20250427T140000
DTEND;TZID=Europe/London:20250427T170000
DTSTAMP:20250415T180503Z
URL:https://friendsofenglishdance.org.uk/events/50th-anniversary-wantage-f
 olk-dance-club/
SUMMARY:50th Anniversary - WANTAGE FOLK DANCE CLUB
DESCRIPTION:Sunday 27th April is an important milestone in the history of
  the Club. We will be celebrating our 50th Anniversary at Steventon Vil
 lage Hall At 2.00pm. The event will centre around the dances that were pop
 ular in each of the five decades of the Club. It is particularly poignant 
 because\, until the move to  a different format\, at Steventon and to Fri
 days\, the Club nearly went out of existence. Please come and celebrate wi
 th us. Music will be by Stradivarious and Malcom Bright and Diana Triplow
  have scoured our Club archives to come up with what we hope will be an i
 nteresting and nostalgic programme. In addition to the normal “bring and
   share tea” there will be a celebration cake and a toast to the next 5
 0 years!  There will also be a display of photographs of the Club down th
 e decades. We had hoped to celebrate 45years of existence but Covid put a 
 stop to that\, so  we are determined to mark the 50th.We will be inviting
  old members and some of the original members will be there. If you know o
 f any lapsed members that you could invite\, please do so.
CATEGORIES:Dance
LOCATION:Steventon village Hall.\, The Green\, Steventon\, Abingdon \, Oxfo
 rdshire\, OX13 6RR\, United Kingdom
X-APPLE-STRUCTURED-LOCATION;VALUE=URI;X-ADDRESS=The Green\, Steventon\, Abi
 ngdon \, Oxfordshire\, OX13 6RR\, United Kingdom;X-APPLE-RADIUS=100;X-TITL
 E=Steventon village Hall.:geo:0,0
END:VEVENT
BEGIN:VTIMEZONE
TZID:Europe/London
X-LIC-LOCATION:Europe/London
BEGIN:DAYLIGHT
DTSTART:20250330T020000
TZOFFSETFROM:+0000
TZOFFSETTO:+0100
TZNAME:BST
END:DAYLIGHT
END:VTIMEZONE
END:VCALENDAR