BEGIN:VCALENDAR
VERSION:2.0
PRODID:-//wp-events-plugin.com//7.2.3.1//EN
TZID:Europe/London
X-WR-TIMEZONE:Europe/London
BEGIN:VEVENT
UID:51@friendsofenglishdance.org.uk
DTSTART;TZID=Europe/London;VALUE=DATE:20250606
DTEND;TZID=Europe/London;VALUE=DATE:20250609
DTSTAMP:20250409T210859Z
URL:https://friendsofenglishdance.org.uk/events/53rd-stonesfield-folk-danc
 e-weekend/
SUMMARY:53rd Stonesfield Folk Dance Weekend
DESCRIPTION:53rd Stonesfield Folk Dance Weekend. Victoria&amp\;Dave Yeomans
  &amp\; Neil Stuart &amp\; Matt Norman\n\nDance Styles: Contra\, Country 
 Dance\, Square Dance\n\nPrice: £55 full weekend\n\nTime: 7.30pmm to 10.
 30pm on Friday. 10.00am- 10.30pm Sat. 10.00am - 4.30pm Sun.Sun\n\nTicket O
 ptions: Ticket only (prebooking essential)\n\nThis year we have Victoria 
 Yeomans and Neil Stuart calling and Dave Yeomans with Matt Norman the musi
 cians.\n\nThe cost for the full weekend is £60 per dancer\, price increas
 es to £65 after1st August\, and for the use of the Playing Field from 10a
 m Friday 6th to 10am Monday 9th June it is £20 per unit(Caravan\,Mobileho
 me or tent).\n\nFriday &amp\; Saturday Evening Dance 7.30 to 10.30pm\n\nSa
 turday &amp\; Sunday Workshops 10am start.\n\nSunday Tea Dance 2 30pm to 4
  .30pm Tea to follow.\n\nAs usual we will have some entertainment with Wyc
 hwayz Border Morris Dancing over the Saturday Lunch Break.\n\nWe have outs
 ide Caterers to provide us with food Saturday &amp\; Sunday. Please see se
 parate Booking Form.\n\nThis is a popular event and places are in demand e
 arly booking is advised.\n\nYou will find the booking form on our Home Pag
 e.\n\nWanting to speak to someone\n\nStewart Nicholls 01295-730271 or 0730
 1046514\n\nprefer to email\n\nr.stewart.nicholls@googlemail.com\n\nFor mor
 e information: https://www.stonesfieldfolkdance.danceorg.uk/
CATEGORIES:Weekend
LOCATION:Stonesfield Village Hall\, Field Cl\, Stonesfield\, \, Witney\, Ox
 fordshire\, OX29 8HA\, United Kingdom
X-APPLE-STRUCTURED-LOCATION;VALUE=URI;X-ADDRESS=Field Cl\, Stonesfield\, \,
  Witney\, Oxfordshire\, OX29 8HA\, United Kingdom;X-APPLE-RADIUS=100;X-TIT
 LE=Stonesfield Village Hall:geo:0,0
END:VEVENT
BEGIN:VTIMEZONE
TZID:Europe/London
X-LIC-LOCATION:Europe/London
BEGIN:DAYLIGHT
DTSTART:20250330T020000
TZOFFSETFROM:+0000
TZOFFSETTO:+0100
TZNAME:BST
END:DAYLIGHT
END:VTIMEZONE
END:VCALENDAR