BEGIN:VCALENDAR
VERSION:2.0
PRODID:-//wp-events-plugin.com//7.2.3.1//EN
TZID:Europe/London
X-WR-TIMEZONE:Europe/London
BEGIN:VEVENT
UID:39@friendsofenglishdance.org.uk
DTSTART;TZID=Europe/London:20251004T193000
DTEND;TZID=Europe/London:20251004T223000
DTSTAMP:20250930T200900Z
URL:https://friendsofenglishdance.org.uk/events/70th-anniversary-celebrati
 on/
SUMMARY:70th Anniversary Celebration
DESCRIPTION:Join Adlington Folk Dance Club fro a special 70th celebration\n
 \nVictoria Yeomans with Dave\, Fran &amp\; Philip\n\nPlease bring some foo
 d to share for the interval\n\nTickets £12 to be reserved in advance.\n\n
 To reserve your ticket email afdcrjb@gmail.com
CATEGORIES:Dance
LOCATION:Poynton Civic Hall\, Park Ln\, Poynton\,\, Stockport \, Cheshire\,
  SK12 1RB\, United Kingdom
X-APPLE-STRUCTURED-LOCATION;VALUE=URI;X-ADDRESS=Park Ln\, Poynton\,\, Stock
 port \, Cheshire\, SK12 1RB\, United Kingdom;X-APPLE-RADIUS=100;X-TITLE=Po
 ynton Civic Hall:geo:0,0
END:VEVENT
BEGIN:VTIMEZONE
TZID:Europe/London
X-LIC-LOCATION:Europe/London
BEGIN:DAYLIGHT
DTSTART:20250330T020000
TZOFFSETFROM:+0000
TZOFFSETTO:+0100
TZNAME:BST
END:DAYLIGHT
END:VTIMEZONE
END:VCALENDAR