BEGIN:VCALENDAR
VERSION:2.0
PRODID:-//wp-events-plugin.com//7.2.3.1//EN
TZID:Europe/London
X-WR-TIMEZONE:Europe/London
BEGIN:VEVENT
UID:56@friendsofenglishdance.org.uk
DTSTART;TZID=Europe/London:20250413T103000
DTEND;TZID=Europe/London:20250413T173000
DTSTAMP:20250409T172156Z
URL:https://friendsofenglishdance.org.uk/events/a-soberton-smorgasbord-of-
 interesting-dances/
SUMMARY:A Soberton Smörgåsbord of Interesting Dances
DESCRIPTION:Jane Thomas will lead a workshop titled "A Soberton Smörgåsbo
 rd of Interesting Dances " - A pick and mix of dances that Jane enjoys tea
 ching and dancing.\n\nMusic will be provided by Sue and Pete Hall.\n\nOrga
 nised by FASH - https://www.fash.org.uk/\n\nFASH members £9\, non-members
  £12 and it costs just £10 to become a FASH member.
CATEGORIES:Workshop
LOCATION:Soberton Village Hall\, School Hill\, Soberton\, Southampton \, Ha
 mpshire\, SO32 3PF\, United Kingdom
X-APPLE-STRUCTURED-LOCATION;VALUE=URI;X-ADDRESS=School Hill\, Soberton\, So
 uthampton \, Hampshire\, SO32 3PF\, United Kingdom;X-APPLE-RADIUS=100;X-TI
 TLE=Soberton Village Hall:geo:0,0
END:VEVENT
BEGIN:VTIMEZONE
TZID:Europe/London
X-LIC-LOCATION:Europe/London
BEGIN:DAYLIGHT
DTSTART:20250330T020000
TZOFFSETFROM:+0000
TZOFFSETTO:+0100
TZNAME:BST
END:DAYLIGHT
END:VTIMEZONE
END:VCALENDAR