BEGIN:VCALENDAR
VERSION:2.0
PRODID:-//wp-events-plugin.com//7.2.3.1//EN
TZID:Europe/London
X-WR-TIMEZONE:Europe/London
BEGIN:VEVENT
UID:453@friendsofenglishdance.org.uk
DTSTART;TZID=Europe/London:20260131T140000
DTEND;TZID=Europe/London:20260131T170000
DTSTAMP:20251231T113528Z
URL:https://friendsofenglishdance.org.uk/events/afternoon-workshop/
SUMMARY:Afternoon Workshop
DESCRIPTION:Return visit of Kalia Kliban from California with musicians Den
 ise and Norman Bearon\n\nAn opportunity not to miss\, you’ll need an eas
 y familiarity with folk dance figures.\n\nTickets £12\, you’ll need to 
 pay in advance.\n\nTo register your interest\, please email Denise tickets
 @lemmingsreprieve.org.uk and she will send you payment details.\n\nEvent o
 rganised by Lemmings Reprieve FDC\n\nClick here for more information\n\n&n
 bsp\;
CATEGORIES:Workshop
LOCATION:Croston Old School\, Church Street\, Croston\, Lancashire\, PR26 9
 HA\, United Kingdom
X-APPLE-STRUCTURED-LOCATION;VALUE=URI;X-ADDRESS=Church Street\, Croston\, L
 ancashire\, PR26 9HA\, United Kingdom;X-APPLE-RADIUS=100;X-TITLE=Croston O
 ld School:geo:0,0
END:VEVENT
BEGIN:VTIMEZONE
TZID:Europe/London
X-LIC-LOCATION:Europe/London
BEGIN:STANDARD
DTSTART:20251026T010000
TZOFFSETFROM:+0100
TZOFFSETTO:+0000
TZNAME:GMT
END:STANDARD
END:VTIMEZONE
END:VCALENDAR