BEGIN:VCALENDAR
VERSION:2.0
PRODID:-//wp-events-plugin.com//7.2.3.1//EN
TZID:Europe/London
X-WR-TIMEZONE:Europe/London
BEGIN:VEVENT
UID:15@friendsofenglishdance.org.uk
DTSTART;TZID=Europe/London:20250217T200000
DTEND;TZID=Europe/London:20250217T210000
DTSTAMP:20241224T124724Z
URL:https://friendsofenglishdance.org.uk/events/annual-general-meeting-202
 5/
SUMMARY:Annual General Meeting 2025
DESCRIPTION:Annual General Meeting for members only to be held on Zoom.\n\n
 Further details will be emailed out in due course.
CATEGORIES:AGM,FED Event
END:VEVENT
BEGIN:VTIMEZONE
TZID:Europe/London
X-LIC-LOCATION:Europe/London
BEGIN:STANDARD
DTSTART:20241027T010000
TZOFFSETFROM:+0100
TZOFFSETTO:+0000
TZNAME:GMT
END:STANDARD
END:VTIMEZONE
END:VCALENDAR