BEGIN:VCALENDAR
VERSION:2.0
PRODID:-//wp-events-plugin.com//7.2.3.1//EN
TZID:Europe/London
X-WR-TIMEZONE:Europe/London
BEGIN:VEVENT
UID:352@friendsofenglishdance.org.uk
DTSTART;TZID=Europe/London:20251026T140000
DTEND;TZID=Europe/London:20251026T173000
DTSTAMP:20250528T203453Z
URL:https://friendsofenglishdance.org.uk/events/autumn-dance/
SUMMARY:Autumn Dance
DESCRIPTION:Wroughton Folk Dance Club\n\nNigel Close with Chris &amp\; Juli
 e Dewhurst\n\nhttps://wroughtonfdc.org.uk/Home/\n\n&nbsp\;
CATEGORIES:Dance
LOCATION:Memorial Hall\, Station Road\, Royal\, Wooten Basset\, Swindon\, W
 iltshire\, SN4 8EN\, United Kingdom
X-APPLE-STRUCTURED-LOCATION;VALUE=URI;X-ADDRESS=Station Road\, Royal\, Woot
 en Basset\, Swindon\, Wiltshire\, SN4 8EN\, United Kingdom;X-APPLE-RADIUS=
 100;X-TITLE=Memorial Hall:geo:0,0
END:VEVENT
BEGIN:VTIMEZONE
TZID:Europe/London
X-LIC-LOCATION:Europe/London
BEGIN:STANDARD
DTSTART:20251026T010000
TZOFFSETFROM:+0100
TZOFFSETTO:+0000
TZNAME:GMT
END:STANDARD
END:VTIMEZONE
END:VCALENDAR