BEGIN:VCALENDAR
VERSION:2.0
PRODID:-//wp-events-plugin.com//7.2.3.1//EN
TZID:Europe/London
X-WR-TIMEZONE:Europe/London
BEGIN:VEVENT
UID:606@friendsofenglishdance.org.uk
DTSTART;TZID=Europe/London:20261107T161500
DTEND;TZID=Europe/London:20261107T223000
DTSTAMP:20251231T172014Z
URL:https://friendsofenglishdance.org.uk/events/avoncroft-workshop-playfor
 d-ball-nov-26/
SUMMARY:Avoncroft Workshop & Playford Ball
DESCRIPTION:With Victoria Yeomans and Julia &amp\; Shane.\nMeet 4pm for tea
 \, Workshop 4:15-6:00pm (£6)  Ball 7:30-10:30 (£10)\, Joint ticket £15
 .\nBring &amp\; share between events\, please bring a plate to share.\nCos
 tume or smart attire please.\n\nClick here for more information
CATEGORIES:Ball,Workshop
LOCATION:Avoncroft Arts Centre\, Redditch Road\,\, Stoke Heath\, Bromsgrove
 \, Worcestershire\, B60 4JP\, United Kingdom
X-APPLE-STRUCTURED-LOCATION;VALUE=URI;X-ADDRESS=Redditch Road\,\, Stoke Hea
 th\, Bromsgrove\, Worcestershire\, B60 4JP\, United Kingdom;X-APPLE-RADIUS
 =100;X-TITLE=Avoncroft Arts Centre:geo:0,0
END:VEVENT
BEGIN:VTIMEZONE
TZID:Europe/London
X-LIC-LOCATION:Europe/London
BEGIN:STANDARD
DTSTART:20261025T010000
TZOFFSETFROM:+0100
TZOFFSETTO:+0000
TZNAME:GMT
END:STANDARD
END:VTIMEZONE
END:VCALENDAR