BEGIN:VCALENDAR
VERSION:2.0
PRODID:-//wp-events-plugin.com//7.2.3.1//EN
TZID:Europe/London
X-WR-TIMEZONE:Europe/London
BEGIN:VEVENT
UID:18@friendsofenglishdance.org.uk
DTSTART;TZID=Europe/London:20210320T193000
DTEND;TZID=Europe/London:20210320T200000
DTSTAMP:20241224T133740Z
URL:https://friendsofenglishdance.org.uk/events/dance-interpretation-works
 hop/
SUMMARY:Dance Interpretation Workshop
DESCRIPTION:Colin Hume will introduce participants to the art of dance rec
 onstruction. Participants will then be divided into small groups to work o
 n interpretations of (mainly) unfamiliar dances. The is a participatory wo
 rkshop and therefore limited to 12 people.\n\nIf you wish to attend\, plea
 se email Judith stating where you dance and how much experience you have h
 ad of dance interpretation (no experience/some experience/quite a lot of e
 xperience). This information will be used to group participants appropriat
 ely\, not as a basis for selection. Please include your email address and 
 any alternative name you use on Zoom.\n\nWe are operating a sliding scale 
 ticket price for this event. The price you pay is based on your circumstan
 ces.\n\nStandard: £10\n\nPay more: £15\n\nPay less: £ 7
CATEGORIES:Callers' Exchange,FED Event
END:VEVENT
BEGIN:VTIMEZONE
TZID:Europe/London
X-LIC-LOCATION:Europe/London
BEGIN:STANDARD
DTSTART:20201025T010000
TZOFFSETFROM:+0100
TZOFFSETTO:+0000
TZNAME:GMT
END:STANDARD
END:VTIMEZONE
END:VCALENDAR