BEGIN:VCALENDAR
VERSION:2.0
PRODID:-//wp-events-plugin.com//7.2.3.1//EN
TZID:Europe/London
X-WR-TIMEZONE:Europe/London
BEGIN:VEVENT
UID:609@friendsofenglishdance.org.uk
DTSTART;TZID=Europe/London:20260330T160000
DTEND;TZID=Europe/London:20260403T100000
DTSTAMP:20251231T180451Z
URL:https://friendsofenglishdance.org.uk/events/dancing-and-walking-holida
 y/
SUMMARY:Dancing and Walking Holiday
DESCRIPTION:We’re delighted to welcome back caller and keen walker – Rh
 odri Davies. He will be joined by musicians and dedicated hikers - Vicki S
 wan and Jonny Dyer. The team is completed by our regular walk leaders Nan 
 Ward &amp\; Roger Phipps\, who might be persuaded to dance.\n\nClick here 
 for more information
CATEGORIES:Week
LOCATION:Halsway Manor\, Halsway Lane\, Crowcombe \, Taunton \, Somerset \,
  TA4 4BD\, United Kingdom
X-APPLE-STRUCTURED-LOCATION;VALUE=URI;X-ADDRESS=Halsway Lane\, Crowcombe \,
  Taunton \, Somerset \, TA4 4BD\, United Kingdom;X-APPLE-RADIUS=100;X-TITL
 E=Halsway Manor:geo:0,0
END:VEVENT
BEGIN:VTIMEZONE
TZID:Europe/London
X-LIC-LOCATION:Europe/London
BEGIN:DAYLIGHT
DTSTART:20260329T020000
TZOFFSETFROM:+0000
TZOFFSETTO:+0100
TZNAME:BST
END:DAYLIGHT
END:VTIMEZONE
END:VCALENDAR