BEGIN:VCALENDAR
VERSION:2.0
PRODID:-//wp-events-plugin.com//7.2.3.1//EN
TZID:Europe/London
X-WR-TIMEZONE:Europe/London
BEGIN:VEVENT
UID:50@friendsofenglishdance.org.uk
DTSTART;TZID=Europe/London:20250629T103000
DTEND;TZID=Europe/London:20250629T164500
DTSTAMP:20250422T200515Z
URL:https://friendsofenglishdance.org.uk/events/day-of-dance-june-2025/
SUMMARY:Day of Dance
DESCRIPTION:with Colin Hume Larry Ungar &amp\; Elke Baker\n\nA programme of
  English &amp\; American Dance brought to you by Colin Hume with music fro
 m Larry Ungar &amp\; Elke Baker. Full Day 10.30 till 4.45pm\n\nTickets £3
 0\n\nFor more information: https://www.stonesfieldfolkdance.danceorg.uk/
CATEGORIES:Dance
LOCATION:Stonesfield Village Hall\, Field Cl\, Stonesfield\, \, Witney\, Ox
 fordshire\, OX29 8HA\, United Kingdom
X-APPLE-STRUCTURED-LOCATION;VALUE=URI;X-ADDRESS=Field Cl\, Stonesfield\, \,
  Witney\, Oxfordshire\, OX29 8HA\, United Kingdom;X-APPLE-RADIUS=100;X-TIT
 LE=Stonesfield Village Hall:geo:0,0
END:VEVENT
BEGIN:VTIMEZONE
TZID:Europe/London
X-LIC-LOCATION:Europe/London
BEGIN:DAYLIGHT
DTSTART:20250330T020000
TZOFFSETFROM:+0000
TZOFFSETTO:+0100
TZNAME:BST
END:DAYLIGHT
END:VTIMEZONE
END:VCALENDAR