BEGIN:VCALENDAR
VERSION:2.0
PRODID:-//wp-events-plugin.com//7.2.3.1//EN
TZID:Europe/London
X-WR-TIMEZONE:Europe/London
BEGIN:VEVENT
UID:455@friendsofenglishdance.org.uk
DTSTART;TZID=Europe/London:20260131T200000
DTEND;TZID=Europe/London:20260131T230000
DTSTAMP:20251130T205145Z
URL:https://friendsofenglishdance.org.uk/events/exeter-ceilidhs-3/
SUMMARY:Exeter Ceilidhs
DESCRIPTION:With Dartmoor Pixies\n\nClick here for more information\n\n&nbs
 p\;
CATEGORIES:Dance
LOCATION:The Kenn Centre\, Exeter Road\, Kennford\, Exeter\, Devon\, EX6 7U
 E\, United Kingdom
X-APPLE-STRUCTURED-LOCATION;VALUE=URI;X-ADDRESS=Exeter Road\, Kennford\, Ex
 eter\, Devon\, EX6 7UE\, United Kingdom;X-APPLE-RADIUS=100;X-TITLE=The Ken
 n Centre:geo:0,0
END:VEVENT
BEGIN:VTIMEZONE
TZID:Europe/London
X-LIC-LOCATION:Europe/London
BEGIN:STANDARD
DTSTART:20251026T010000
TZOFFSETFROM:+0100
TZOFFSETTO:+0000
TZNAME:GMT
END:STANDARD
END:VTIMEZONE
END:VCALENDAR