BEGIN:VCALENDAR
VERSION:2.0
PRODID:-//wp-events-plugin.com//7.2.3.1//EN
TZID:Europe/London
X-WR-TIMEZONE:Europe/London
BEGIN:VEVENT
UID:428@friendsofenglishdance.org.uk
DTSTART;TZID=Europe/London:20260426T103000
DTEND;TZID=Europe/London:20260426T153000
DTSTAMP:20260127T234355Z
URL:https://friendsofenglishdance.org.uk/events/fash-workshop-8/
SUMMARY:FASH Workshop
DESCRIPTION:Caller: Thomas Bending\n\nBand: Pete and Sue Hall\nTitle: Dance
 s from the Thompson Collections\n\nPeter Thompson and his family published
  many collections of dances in the latter half of the 18th century\, and m
 any dances that people think of as "Playford" are actually from Thompson c
 ollections. We'll look at a varied selection.\n\nClick here for more infor
 mation.\n\nIf you are a newcomer to folk dancing you might find it easier 
 to try a ceilidh or a dance club first to learn the basics\, but everyone 
 is welcome - with a partner or on their own. We are a friendly crowd and w
 ill make sure you always have someone to dance with.
CATEGORIES:Workshop
LOCATION:Soberton Village Hall\, School Hill\, Soberton\, Southampton \, Ha
 mpshire\, SO32 3PF\, United Kingdom
X-APPLE-STRUCTURED-LOCATION;VALUE=URI;X-ADDRESS=School Hill\, Soberton\, So
 uthampton \, Hampshire\, SO32 3PF\, United Kingdom;X-APPLE-RADIUS=100;X-TI
 TLE=Soberton Village Hall:geo:0,0
END:VEVENT
BEGIN:VTIMEZONE
TZID:Europe/London
X-LIC-LOCATION:Europe/London
BEGIN:DAYLIGHT
DTSTART:20260329T020000
TZOFFSETFROM:+0000
TZOFFSETTO:+0100
TZNAME:BST
END:DAYLIGHT
END:VTIMEZONE
END:VCALENDAR