BEGIN:VCALENDAR
VERSION:2.0
PRODID:-//wp-events-plugin.com//7.2.3.1//EN
TZID:Europe/London
X-WR-TIMEZONE:Europe/London
BEGIN:VEVENT
UID:383@friendsofenglishdance.org.uk
DTSTART;TZID=Europe/London:20251025T190000
DTEND;TZID=Europe/London:20251025T220000
DTSTAMP:20250930T183823Z
URL:https://friendsofenglishdance.org.uk/events/fisy-evening-halloween-dan
 ce/
SUMMARY:FISY evening Hallowe'en dance
DESCRIPTION:Dance run by Spire Folk-Dance Club\nSaturday 25 October 2025\n\
 nOne of the regular evening dances organised by Folk in South Yorkshire (F
 ISY)\n\nDance Styles: Contra\, Country Dance\, Square Dance\n\nPrice: £5\
 n\nMore information
CATEGORIES:Dance
LOCATION:Chapeltown & Burnscross Community Centre\, Orchard Court\, Burncro
 ss\, Sheffield \, Yorkshire\, S35 1TH\, United Kingdom
X-APPLE-STRUCTURED-LOCATION;VALUE=URI;X-ADDRESS=Orchard Court\, Burncross\,
  Sheffield \, Yorkshire\, S35 1TH\, United Kingdom;X-APPLE-RADIUS=100;X-TI
 TLE=Chapeltown & Burnscross Community Centre:geo:0,0
END:VEVENT
BEGIN:VTIMEZONE
TZID:Europe/London
X-LIC-LOCATION:Europe/London
BEGIN:DAYLIGHT
DTSTART:20250330T020000
TZOFFSETFROM:+0000
TZOFFSETTO:+0100
TZNAME:BST
END:DAYLIGHT
END:VTIMEZONE
END:VCALENDAR