BEGIN:VCALENDAR
VERSION:2.0
PRODID:-//wp-events-plugin.com//7.2.3.1//EN
TZID:Europe/London
X-WR-TIMEZONE:Europe/London
BEGIN:VEVENT
UID:53@friendsofenglishdance.org.uk
DTSTART;TZID=Europe/London:20250601T140000
DTEND;TZID=Europe/London:20250601T170000
DTSTAMP:20250422T200309Z
URL:https://friendsofenglishdance.org.uk/events/fisy-sunday-afternoon-work
 shop-june-2025/
SUMMARY:FISY Sunday afternoon workshop
DESCRIPTION:One of a series of occasional afternoon workshops organised by 
 FISY\n\nPrice: £5\n\nFor more information: https://www.areyoudancing.com
 /dance-event/748550/
CATEGORIES:Workshop
LOCATION:Thievesdale Community Centre\, Thievesdale Lane \, Worksop \, Nott
 inghamshire \, S81 0XS\, United Kingdom
X-APPLE-STRUCTURED-LOCATION;VALUE=URI;X-ADDRESS=Thievesdale Lane \, Worksop
  \, Nottinghamshire \, S81 0XS\, United Kingdom;X-APPLE-RADIUS=100;X-TITLE
 =Thievesdale Community Centre:geo:0,0
END:VEVENT
BEGIN:VTIMEZONE
TZID:Europe/London
X-LIC-LOCATION:Europe/London
BEGIN:DAYLIGHT
DTSTART:20250330T020000
TZOFFSETFROM:+0000
TZOFFSETTO:+0100
TZNAME:BST
END:DAYLIGHT
END:VTIMEZONE
END:VCALENDAR