BEGIN:VCALENDAR
VERSION:2.0
PRODID:-//wp-events-plugin.com//7.2.3.1//EN
TZID:Europe/London
X-WR-TIMEZONE:Europe/London
BEGIN:VEVENT
UID:382@friendsofenglishdance.org.uk
DTSTART;TZID=Europe/London:20251012T140000
DTEND;TZID=Europe/London:20251012T170000
DTSTAMP:20250830T161255Z
URL:https://friendsofenglishdance.org.uk/events/fisy-sunday-afternoon-work
 shop/
SUMMARY:FISY Sunday afternoon workshop
DESCRIPTION:Workshop run by Spire Folk-Dance Club\nOne of a series of occas
 ional afternoon workshops organised by FISY\n\nDance Styles: Contra\, Coun
 try Dance\, Square Dance\n\nPrice: £5 Pay on door\n\nMore information
CATEGORIES:Workshop
LOCATION:Holmesfield Village Hall\,  Vicarage Close\, Holmesfield\, Derbys
 hire\, S18 7WZ\, United Kingdom
X-APPLE-STRUCTURED-LOCATION;VALUE=URI;X-ADDRESS= Vicarage Close\, Holmesfi
 eld\, Derbyshire\, S18 7WZ\, United Kingdom;X-APPLE-RADIUS=100;X-TITLE=Hol
 mesfield Village Hall:geo:0,0
END:VEVENT
BEGIN:VTIMEZONE
TZID:Europe/London
X-LIC-LOCATION:Europe/London
BEGIN:DAYLIGHT
DTSTART:20250330T020000
TZOFFSETFROM:+0000
TZOFFSETTO:+0100
TZNAME:BST
END:DAYLIGHT
END:VTIMEZONE
END:VCALENDAR