BEGIN:VCALENDAR
VERSION:2.0
PRODID:-//wp-events-plugin.com//7.2.3.1//EN
TZID:Europe/London
X-WR-TIMEZONE:Europe/London
BEGIN:VEVENT
UID:353@friendsofenglishdance.org.uk
DTSTART;TZID=Europe/London:20250625T193000
DTEND;TZID=Europe/London:20250625T213000
DTSTAMP:20250606T191102Z
URL:https://friendsofenglishdance.org.uk/events/folk-education-development
 -evening/
SUMMARY:Folk Education Development Evening
DESCRIPTION:Focus on Calling\n\nIn partnership with Lisa Heywood’s Caller
 s’ Chat project\, the Folk Education Network presents an evening of Cont
 inued Professional Development (CPD) and networking for Callers.\n\nThis f
 ree event\, made up of talks and interactive elements\, is aimed at dance 
 callers\, from any genre and of any level of experience\, and working in a
 ny context\, from weddings to schools to community events and festivals.\n
 \nhttps://www.efdss.org/whats-on/66-professional-development/15230-folk-ed
 ucation-development-evening-25-june-25
CATEGORIES:Training
END:VEVENT
BEGIN:VTIMEZONE
TZID:Europe/London
X-LIC-LOCATION:Europe/London
BEGIN:DAYLIGHT
DTSTART:20250330T020000
TZOFFSETFROM:+0000
TZOFFSETTO:+0100
TZNAME:BST
END:DAYLIGHT
END:VTIMEZONE
END:VCALENDAR