BEGIN:VCALENDAR
VERSION:2.0
PRODID:-//wp-events-plugin.com//7.2.3.1//EN
TZID:Europe/London
X-WR-TIMEZONE:Europe/London
BEGIN:VEVENT
UID:198@friendsofenglishdance.org.uk
DTSTART;TZID=Europe/London;VALUE=DATE:20250818
DTEND;TZID=Europe/London;VALUE=DATE:20250826
DTSTAMP:20250429T193610Z
URL:https://friendsofenglishdance.org.uk/events/halsway-folk-dance-holiday
 /
SUMMARY:Halsway Folk Dance Holiday
DESCRIPTION:Enjoy a folk dance-focused summer holiday at Halsway Manor\, ho
 sted by Jane Thomas and the Halsway Folk Dance team. This welcoming week o
 ffers a blend of daily dance workshops\, evening dances\, and optional fol
 k-related activities like music\, song\, crafts\, and outdoor fun.\n\n\n 	
 Morning sessions include a dance workshop and a second folk activity\n 	Ev
 ening dances led by expert caller Ivan Aitken with live music from Richard
  Jones and Chris Jewell\n 	Free time daily\, including one full free day t
 o relax or explore the area\n 	Optional activities range from singing and 
 crafting to exploring the gardens\n 	Open to all levels—no prior experie
 nce needed\, just a love of folk culture\n\nhttps://www.halswaymanor.org.u
 k/event/halsway-folk-dance-holiday-2025
CATEGORIES:Week
LOCATION:Halsway Manor\, Halsway Lane\, Crowcombe \, Taunton \, Somerset \,
  TA4 4BD\, United Kingdom
X-APPLE-STRUCTURED-LOCATION;VALUE=URI;X-ADDRESS=Halsway Lane\, Crowcombe \,
  Taunton \, Somerset \, TA4 4BD\, United Kingdom;X-APPLE-RADIUS=100;X-TITL
 E=Halsway Manor:geo:0,0
END:VEVENT
BEGIN:VTIMEZONE
TZID:Europe/London
X-LIC-LOCATION:Europe/London
BEGIN:DAYLIGHT
DTSTART:20250330T020000
TZOFFSETFROM:+0000
TZOFFSETTO:+0100
TZNAME:BST
END:DAYLIGHT
END:VTIMEZONE
END:VCALENDAR