BEGIN:VCALENDAR
VERSION:2.0
PRODID:-//wp-events-plugin.com//7.2.3.1//EN
TZID:Europe/London
X-WR-TIMEZONE:Europe/London
BEGIN:VEVENT
UID:54@friendsofenglishdance.org.uk
DTSTART;TZID=Europe/London;VALUE=DATE:20250530
DTEND;TZID=Europe/London;VALUE=DATE:20250602
DTSTAMP:20250422T200233Z
URL:https://friendsofenglishdance.org.uk/events/halsway-playford-assembly-
 2025/
SUMMARY:Halsway Playford Assembly
DESCRIPTION:A weekend of Playford dance led by Andrew Swaine with musicians
  Purcell’s Polyphonic Party\n\nDance Styles: 17th Century\, Country Dan
 ce\n\nPrice: £215 - £330 (tuition\, activities\, all meals &amp\; accom
 modation)\n\nTime: Friday 4pm - Sunday 4pm.\n\nTicket Options: Ticket on
 ly (prebooking essential)\n\nFor more information: https://www.halswaymano
 r.org.uk/event/halsway-playford-assembly-2025
CATEGORIES:Weekend
LOCATION:Halsway Manor\, Halsway Lane\, Crowcombe \, Taunton \, Somerset \,
  TA4 4BD\, United Kingdom
X-APPLE-STRUCTURED-LOCATION;VALUE=URI;X-ADDRESS=Halsway Lane\, Crowcombe \,
  Taunton \, Somerset \, TA4 4BD\, United Kingdom;X-APPLE-RADIUS=100;X-TITL
 E=Halsway Manor:geo:0,0
END:VEVENT
BEGIN:VTIMEZONE
TZID:Europe/London
X-LIC-LOCATION:Europe/London
BEGIN:DAYLIGHT
DTSTART:20250330T020000
TZOFFSETFROM:+0000
TZOFFSETTO:+0100
TZNAME:BST
END:DAYLIGHT
END:VTIMEZONE
END:VCALENDAR