BEGIN:VCALENDAR
VERSION:2.0
PRODID:-//wp-events-plugin.com//7.2.3.1//EN
TZID:Europe/London
X-WR-TIMEZONE:Europe/London
BEGIN:VEVENT
UID:55@friendsofenglishdance.org.uk
DTSTART;TZID=Europe/London:20250412T193000
DTEND;TZID=Europe/London:20250412T223000
DTSTAMP:20250409T205946Z
URL:https://friendsofenglishdance.org.uk/events/hampton-in-arden-folk-danc
 e-group/
SUMMARY:Solihull Second Saturday Dances:
DESCRIPTION:Colin Hume with Double Dichotomy\n\nFor more information: http
 s://hamptonfolkdances.weebly.com/
CATEGORIES:Dance
LOCATION:Elmdon Heath Community Centre\, 68 Cornyx Ln\, Solihull \, West Mi
 dlands\, B91 2SF\, United Kingdom
X-APPLE-STRUCTURED-LOCATION;VALUE=URI;X-ADDRESS=68 Cornyx Ln\, Solihull \, 
 West Midlands\, B91 2SF\, United Kingdom;X-APPLE-RADIUS=100;X-TITLE=Elmdon
  Heath Community Centre:geo:0,0
END:VEVENT
BEGIN:VTIMEZONE
TZID:Europe/London
X-LIC-LOCATION:Europe/London
BEGIN:DAYLIGHT
DTSTART:20250330T020000
TZOFFSETFROM:+0000
TZOFFSETTO:+0100
TZNAME:BST
END:DAYLIGHT
END:VTIMEZONE
END:VCALENDAR