BEGIN:VCALENDAR
VERSION:2.0
PRODID:-//wp-events-plugin.com//7.2.3.1//EN
TZID:Europe/London
X-WR-TIMEZONE:Europe/London
BEGIN:VEVENT
UID:459@friendsofenglishdance.org.uk
DTSTART;TZID=Europe/London:20251207T143000
DTEND;TZID=Europe/London:20251207T173000
DTSTAMP:20251130T211336Z
URL:https://friendsofenglishdance.org.uk/events/hastings-club-christmas-te
 a-dance/
SUMMARY:Hastings Club Christmas Tea Dance
DESCRIPTION:Christmas Tea Dance. Sean Goddard with Eclectic Regency. \n\nBr
 ing &amp\; share tea.\n\nClick here for more information
CATEGORIES:Dance
LOCATION:Ninfield Memorial Hall\, Bexhill Road \, Ninfield Battle \, East
  Sussex \, TN33 9EE\, United Kingdom
X-APPLE-STRUCTURED-LOCATION;VALUE=URI;X-ADDRESS=Bexhill Road \, Ninfield B
 attle \, East Sussex \, TN33 9EE\, United Kingdom;X-APPLE-RADIUS=100;X-T
 ITLE=Ninfield Memorial Hall:geo:0,0
END:VEVENT
BEGIN:VTIMEZONE
TZID:Europe/London
X-LIC-LOCATION:Europe/London
BEGIN:STANDARD
DTSTART:20251026T010000
TZOFFSETFROM:+0100
TZOFFSETTO:+0000
TZNAME:GMT
END:STANDARD
END:VTIMEZONE
END:VCALENDAR