BEGIN:VCALENDAR
VERSION:2.0
PRODID:-//wp-events-plugin.com//7.2.3.1//EN
TZID:Europe/London
X-WR-TIMEZONE:Europe/London
BEGIN:VEVENT
UID:19@friendsofenglishdance.org.uk
DTSTART;TZID=Europe/London:20210313T193000
DTEND;TZID=Europe/London:20210313T200000
DTSTAMP:20241224T133923Z
URL:https://friendsofenglishdance.org.uk/events/have-a-go/
SUMMARY:Have a Go!
DESCRIPTION:Louise Siddons &amp\; Bernie Culkin will host a new caller’s
  session called “Have a Go!” The aim of this workshop is to give calle
 rs the opportunity to try out something new in a supportive environment an
 d receive feedback. You may want to try out a new call and get feedback on
  whether it works for both solo and dances couples.\n\nNumbers will be esp
 ecially limited for the “Have a Go!” session because we want you to ha
 ve enough time to try your new thing and receive feedback. Priority will b
 e given to callers who have attended the “Calling for Zoom” workshop a
 nd who have limited opportunities to call regularly via Zoom.
CATEGORIES:Callers' Exchange,FED Event
END:VEVENT
BEGIN:VTIMEZONE
TZID:Europe/London
X-LIC-LOCATION:Europe/London
BEGIN:STANDARD
DTSTART:20201025T010000
TZOFFSETFROM:+0100
TZOFFSETTO:+0000
TZNAME:GMT
END:STANDARD
END:VTIMEZONE
END:VCALENDAR