BEGIN:VCALENDAR
VERSION:2.0
PRODID:-//wp-events-plugin.com//7.2.3.1//EN
TZID:Europe/London
X-WR-TIMEZONE:Europe/London
BEGIN:VEVENT
UID:379@friendsofenglishdance.org.uk
DTSTART;TZID=Europe/London:20251018T193000
DTEND;TZID=Europe/London:20251018T224500
DTSTAMP:20250830T155226Z
URL:https://friendsofenglishdance.org.uk/events/leyland-fdc-autumn-dance/
SUMMARY:Leyland FDC Autumn Dance
DESCRIPTION:\n\n\nCaller Hilary Herbert with music by Stradivarious.\n£10\
 n\nFind out more\n\n\n\n&nbsp\;\n\n
CATEGORIES:Dance
LOCATION:Leyland Methodist Hall\, Turpin Green Lane\, Leyland\, Lancashire\
 , PR25 3HA.\, United Kingdom
X-APPLE-STRUCTURED-LOCATION;VALUE=URI;X-ADDRESS=Turpin Green Lane\, Leyland
 \, Lancashire\, PR25 3HA.\, United Kingdom;X-APPLE-RADIUS=100;X-TITLE=Leyl
 and Methodist Hall:geo:0,0
END:VEVENT
BEGIN:VTIMEZONE
TZID:Europe/London
X-LIC-LOCATION:Europe/London
BEGIN:DAYLIGHT
DTSTART:20250330T020000
TZOFFSETFROM:+0000
TZOFFSETTO:+0100
TZNAME:BST
END:DAYLIGHT
END:VTIMEZONE
END:VCALENDAR