BEGIN:VCALENDAR
VERSION:2.0
PRODID:-//wp-events-plugin.com//7.2.3.1//EN
TZID:Europe/London
X-WR-TIMEZONE:Europe/London
BEGIN:VEVENT
UID:358@friendsofenglishdance.org.uk
DTSTART;TZID=Europe/London;VALUE=DATE:20260501
DTEND;TZID=Europe/London;VALUE=DATE:20260505
DTSTAMP:20260401T175355Z
URL:https://friendsofenglishdance.org.uk/events/may-heydays/
SUMMARY:May HeyDays
DESCRIPTION:Click here for more information.
CATEGORIES:Festival
LOCATION:The De Montfort School\, Four Pools Rd\, Evesham\, Worcestershire\
 , WR11 1DQ\, United Kingdom
X-APPLE-STRUCTURED-LOCATION;VALUE=URI;X-ADDRESS=Four Pools Rd\, Evesham\, W
 orcestershire\, WR11 1DQ\, United Kingdom;X-APPLE-RADIUS=100;X-TITLE=The D
 e Montfort School:geo:0,0
END:VEVENT
BEGIN:VTIMEZONE
TZID:Europe/London
X-LIC-LOCATION:Europe/London
BEGIN:DAYLIGHT
DTSTART:20260329T020000
TZOFFSETFROM:+0000
TZOFFSETTO:+0100
TZNAME:BST
END:DAYLIGHT
END:VTIMEZONE
END:VCALENDAR