BEGIN:VCALENDAR
VERSION:2.0
PRODID:-//wp-events-plugin.com//7.2.3.1//EN
TZID:Europe/London
X-WR-TIMEZONE:Europe/London
BEGIN:VEVENT
UID:458@friendsofenglishdance.org.uk
DTSTART;TZID=Europe/London:20260111T140000
DTEND;TZID=Europe/London:20260111T170000
DTSTAMP:20251130T210725Z
URL:https://friendsofenglishdance.org.uk/events/mercian-folk-tea-dance/
SUMMARY:Mercian Folk Tea Dance
DESCRIPTION:Afternoon dance of gentle Folk Dances\n\nClick here for more in
 formation
CATEGORIES:Dance
LOCATION:Clent Parish Hall\, 40 Church Ave\, Clent \, Stourbridge\, DY9 9Q
 T\, West Midlands\, United Kingdom
X-APPLE-STRUCTURED-LOCATION;VALUE=URI;X-ADDRESS=40 Church Ave\, Clent \, S
 tourbridge\, DY9 9QT\, West Midlands\, United Kingdom;X-APPLE-RADIUS=100;X
 -TITLE=Clent Parish Hall:geo:0,0
END:VEVENT
BEGIN:VTIMEZONE
TZID:Europe/London
X-LIC-LOCATION:Europe/London
BEGIN:STANDARD
DTSTART:20251026T010000
TZOFFSETFROM:+0100
TZOFFSETTO:+0000
TZNAME:GMT
END:STANDARD
END:VTIMEZONE
END:VCALENDAR