BEGIN:VCALENDAR
VERSION:2.0
PRODID:-//wp-events-plugin.com//7.2.3.1//EN
TZID:Europe/London
X-WR-TIMEZONE:Europe/London
BEGIN:VEVENT
UID:457@friendsofenglishdance.org.uk
DTSTART;TZID=Europe/London:20251220T193000
DTEND;TZID=Europe/London:20251220T223000
DTSTAMP:20251130T210057Z
URL:https://friendsofenglishdance.org.uk/events/mumpers-winter-ceilidh/
SUMMARY:Mumpers Winter Ceilidh
DESCRIPTION:Ceilidh with Mumpers Community Ceilidh Band\n\n£13 on the door
 \n\nClick here for more information
CATEGORIES:Dance
LOCATION:Kegworth Village Hall\, Nottingham Road\, Kegworth\, Leicestershir
 e\, DE74 2FH\, United Kingdom
X-APPLE-STRUCTURED-LOCATION;VALUE=URI;X-ADDRESS=Nottingham Road\, Kegworth\
 , Leicestershire\, DE74 2FH\, United Kingdom;X-APPLE-RADIUS=100;X-TITLE=Ke
 gworth Village Hall:geo:0,0
END:VEVENT
BEGIN:VTIMEZONE
TZID:Europe/London
X-LIC-LOCATION:Europe/London
BEGIN:STANDARD
DTSTART:20251026T010000
TZOFFSETFROM:+0100
TZOFFSETTO:+0000
TZNAME:GMT
END:STANDARD
END:VTIMEZONE
END:VCALENDAR