BEGIN:VCALENDAR
VERSION:2.0
PRODID:-//wp-events-plugin.com//7.2.3.1//EN
TZID:Europe/London
X-WR-TIMEZONE:Europe/London
BEGIN:VEVENT
UID:30@friendsofenglishdance.org.uk
DTSTART;TZID=Europe/London:20200829T193000
DTEND;TZID=Europe/London:20200829T203000
DTSTAMP:20241224T145614Z
URL:https://friendsofenglishdance.org.uk/events/must-english-social-dance-
 die-to-rise-again/
SUMMARY:The Phoenix - Must English Social Dance Die to Rise Again
DESCRIPTION:Does English dancing have to die in order to rise again? Colin 
 Hume poses this question to Bernie Culkin and Louise Siddons\, both of who
 m have started new clubs. \n\n&nbsp\;\n\nPlease note that at the time of 
 this programme\, the Friends of English Dance was known as the Friends of 
 Cecil Sharp House. We are not affiliated with the English Folk Dance and S
 ong Society and no longer have any connection with Cecil Sharp House.
CATEGORIES:FED Event,Webinar
END:VEVENT
BEGIN:VTIMEZONE
TZID:Europe/London
X-LIC-LOCATION:Europe/London
BEGIN:DAYLIGHT
DTSTART:20200329T020000
TZOFFSETFROM:+0000
TZOFFSETTO:+0100
TZNAME:BST
END:DAYLIGHT
END:VTIMEZONE
END:VCALENDAR