BEGIN:VCALENDAR
VERSION:2.0
PRODID:-//wp-events-plugin.com//7.2.3.1//EN
TZID:Europe/London
X-WR-TIMEZONE:Europe/London
BEGIN:VEVENT
UID:452@friendsofenglishdance.org.uk
DTSTART;TZID=Europe/London:20260117T140000
DTEND;TZID=Europe/London:20260117T170000
DTSTAMP:20251130T201421Z
URL:https://friendsofenglishdance.org.uk/events/ormskirk-workshop/
SUMMARY:Ormskirk Workshop
DESCRIPTION:Victoria Yeomans\n\nwith\n\nDave\, Ian &amp\; Becky\n\n&nbsp\;\
 n\nClick here for more information 
CATEGORIES:Dance,Workshop
LOCATION:Rainford Parish Hall\, Church Road\, Rainford\, Lancashire\, WA11 
 8HB\, United Kingdom
X-APPLE-STRUCTURED-LOCATION;VALUE=URI;X-ADDRESS=Church Road\, Rainford\, La
 ncashire\, WA11 8HB\, United Kingdom;X-APPLE-RADIUS=100;X-TITLE=Rainford P
 arish Hall:geo:0,0
END:VEVENT
BEGIN:VTIMEZONE
TZID:Europe/London
X-LIC-LOCATION:Europe/London
BEGIN:STANDARD
DTSTART:20251026T010000
TZOFFSETFROM:+0100
TZOFFSETTO:+0000
TZNAME:GMT
END:STANDARD
END:VTIMEZONE
END:VCALENDAR