BEGIN:VCALENDAR
VERSION:2.0
PRODID:-//wp-events-plugin.com//7.2.3.1//EN
TZID:Europe/London
X-WR-TIMEZONE:Europe/London
BEGIN:VEVENT
UID:381@friendsofenglishdance.org.uk
DTSTART;TZID=Europe/London:20251011T200000
DTEND;TZID=Europe/London:20251011T230000
DTSTAMP:20250830T160202Z
URL:https://friendsofenglishdance.org.uk/events/oxfolk-ceilidh/
SUMMARY:Oxfolk Ceilidh
DESCRIPTION:Climax Ceilidh Band with caller Tina Morris\n\nMore information
CATEGORIES:Dance
LOCATION:Kennington Village Centre\, Kennington Rd\, Kennington\, OX1 5PG\,
  United Kingdom
X-APPLE-STRUCTURED-LOCATION;VALUE=URI;X-ADDRESS=Kennington Rd\, Kennington\
 , OX1 5PG\, United Kingdom;X-APPLE-RADIUS=100;X-TITLE=Kennington Village C
 entre:geo:0,0
END:VEVENT
BEGIN:VTIMEZONE
TZID:Europe/London
X-LIC-LOCATION:Europe/London
BEGIN:DAYLIGHT
DTSTART:20250330T020000
TZOFFSETFROM:+0000
TZOFFSETTO:+0100
TZNAME:BST
END:DAYLIGHT
END:VTIMEZONE
END:VCALENDAR