BEGIN:VCALENDAR
VERSION:2.0
PRODID:-//wp-events-plugin.com//7.2.3.1//EN
TZID:Europe/London
X-WR-TIMEZONE:Europe/London
BEGIN:VEVENT
UID:380@friendsofenglishdance.org.uk
DTSTART;TZID=Europe/London:20251024T193000
DTEND;TZID=Europe/London:20251024T230000
DTSTAMP:20250830T155918Z
URL:https://friendsofenglishdance.org.uk/events/oxfolk-ceilidhs/
SUMMARY:Oxfolk Ceilidhs
DESCRIPTION:Blowzabella\nStandard £20\, Under 25s £10\, under 12s and car
 ers free\n\nMore information
CATEGORIES:Dance
LOCATION:Newman Rooms\, Rose Pl\,\, Oxford\, OX1 1RD\, United Kingdom
X-APPLE-STRUCTURED-LOCATION;VALUE=URI;X-ADDRESS=Rose Pl\,\, Oxford\, OX1 1R
 D\, United Kingdom;X-APPLE-RADIUS=100;X-TITLE=Newman Rooms:geo:0,0
END:VEVENT
BEGIN:VTIMEZONE
TZID:Europe/London
X-LIC-LOCATION:Europe/London
BEGIN:DAYLIGHT
DTSTART:20250330T020000
TZOFFSETFROM:+0000
TZOFFSETTO:+0100
TZNAME:BST
END:DAYLIGHT
END:VTIMEZONE
END:VCALENDAR