BEGIN:VCALENDAR
VERSION:2.0
PRODID:-//wp-events-plugin.com//7.2.3.1//EN
TZID:Europe/London
X-WR-TIMEZONE:Europe/London
BEGIN:VEVENT
UID:58@friendsofenglishdance.org.uk
DTSTART;TZID=Europe/London:20251005T140000
DTEND;TZID=Europe/London:20251005T173000
DTSTAMP:20250829T192134Z
URL:https://friendsofenglishdance.org.uk/events/oxfordshire-folk-dance-pla
 yford-ball-2025/
SUMMARY:Playford Ball
DESCRIPTION:Oxfordshire Folk Dance Association\nPlayford Ball\nwith\nBrian 
 Stanton\nand\nPete &amp\; Sue Hall\nTickets: £12\nFormal Dress or Perio
 d Costume preferred\nPlease bring a plate of food to share – no dips.\n(
 We respect those wishing to bring food\nfor their own consumption.)\nFor m
 ore information please ring\nLinda &amp\; David on 01235-831482
CATEGORIES:Ball
LOCATION:Yarnton Village Hall\, The Paddocks\, Yarnton\, Kidlington \, OX5 
 1TE\, United Kingdom
X-APPLE-STRUCTURED-LOCATION;VALUE=URI;X-ADDRESS=The Paddocks\, Yarnton\, Ki
 dlington \, OX5 1TE\, United Kingdom;X-APPLE-RADIUS=100;X-TITLE=Yarnton Vi
 llage Hall:geo:0,0
END:VEVENT
BEGIN:VTIMEZONE
TZID:Europe/London
X-LIC-LOCATION:Europe/London
BEGIN:DAYLIGHT
DTSTART:20250330T020000
TZOFFSETFROM:+0000
TZOFFSETTO:+0100
TZNAME:BST
END:DAYLIGHT
END:VTIMEZONE
END:VCALENDAR