BEGIN:VCALENDAR
VERSION:2.0
PRODID:-//wp-events-plugin.com//7.2.3.1//EN
TZID:Europe/London
X-WR-TIMEZONE:Europe/London
BEGIN:VEVENT
UID:20@friendsofenglishdance.org.uk
DTSTART;TZID=Europe/London:20201017T193000
DTEND;TZID=Europe/London:20201017T203000
DTSTAMP:20241224T143416Z
URL:https://friendsofenglishdance.org.uk/events/positional-calling-for-ecd
 /
SUMMARY:Positional Calling For ECD
DESCRIPTION:This workshop is intended to introduce participants to position
 al calling — sometimes described as global terminology — for ECD/Playf
 ord. Discover how the skills you already cultivate as a caller can be enha
 nced by positional thinking\, teaching\, and calling — and learn how to 
 use those skills to create a more welcoming\, inclusive atmosphere at your
  dances. This workshop was participatory rather than prescriptive\, althou
 gh Louise did introduce the strategies that she uses in her own teaching a
 nd calling as helpful starting points. Louise has been calling both contra
  and ECD positionally since 2017 in both the US and the UK.\n\n&nbsp\;\n\n
 Please note that at the time of this programme\, the Friends of English Da
 nce was known as the Friends of Cecil Sharp House. We are not affiliated w
 ith the English Folk Dance and Song Society and no longer have any connect
 ion with Cecil Sharp House.
CATEGORIES:Callers' Exchange,FED Event
END:VEVENT
BEGIN:VTIMEZONE
TZID:Europe/London
X-LIC-LOCATION:Europe/London
BEGIN:DAYLIGHT
DTSTART:20200329T020000
TZOFFSETFROM:+0000
TZOFFSETTO:+0100
TZNAME:BST
END:DAYLIGHT
END:VTIMEZONE
END:VCALENDAR