BEGIN:VCALENDAR
VERSION:2.0
PRODID:-//wp-events-plugin.com//7.2.3.1//EN
TZID:Europe/London
X-WR-TIMEZONE:Europe/London
BEGIN:VEVENT
UID:454@friendsofenglishdance.org.uk
DTSTART;TZID=Europe/London:20260117T193000
DTEND;TZID=Europe/London:20260117T224500
DTSTAMP:20251130T204658Z
URL:https://friendsofenglishdance.org.uk/events/public-dance/
SUMMARY:Bedford Fine Companions Public Dance
DESCRIPTION:Ivan Aitken with Keeping Thyme\n\nClick here for more informati
 on
CATEGORIES:Dance
LOCATION:Great Barford Village Hall\, Green End Rd\, Fishers Lane\,\, Gt. B
 arford\, MK44 3JL\, United Kingdom
X-APPLE-STRUCTURED-LOCATION;VALUE=URI;X-ADDRESS=Green End Rd\, Fishers Lane
 \,\, Gt. Barford\, MK44 3JL\, United Kingdom;X-APPLE-RADIUS=100;X-TITLE=Gr
 eat Barford Village Hall:geo:0,0
END:VEVENT
BEGIN:VTIMEZONE
TZID:Europe/London
X-LIC-LOCATION:Europe/London
BEGIN:STANDARD
DTSTART:20251026T010000
TZOFFSETFROM:+0100
TZOFFSETTO:+0000
TZNAME:GMT
END:STANDARD
END:VTIMEZONE
END:VCALENDAR