BEGIN:VCALENDAR
VERSION:2.0
PRODID:-//wp-events-plugin.com//7.2.3.1//EN
TZID:Europe/London
X-WR-TIMEZONE:Europe/London
BEGIN:VEVENT
UID:49@friendsofenglishdance.org.uk
DTSTART;TZID=Europe/London:20250607T133000
DTEND;TZID=Europe/London:20250607T223000
DTSTAMP:20250422T200349Z
URL:https://friendsofenglishdance.org.uk/events/queer-folk-festival-2025/
SUMMARY:Queer Folk Festival
DESCRIPTION:\n\n\n\nNow on sale: the hottest queer folk artists around\, fo
 llowed by one of our famous Queer Ceilidh Dance Parties.\n\n\n\n\n\n\n\nMa
 ddie Morris tells powerful stories with haunting vocals\, The Pegwells bri
 ng groovy Americana and the Spice Girls of folk RE:VULVA blend bold tradit
 ional fiddle\, mandolin and guitar with synths and beats.\n\nJo Brydon-Dic
 kenson delivers a fascinating talk exploring the life and work of Edwardi
 an folk song collector Percy Grainger through a trans lens\, and there'll 
 be a lively folk session in the bar with the night ending in one of our ep
 ic Queer Ceilidh Dance Parties.\n\nEarly bird discounted tickets are now a
 vailable - only until 30 April\, so get booking to get your discount!\n\n\
 nFor more information: https://www.efdss.org/calendar-events/14987-queer-f
 olk-festival-june-2025\n\n
CATEGORIES:Festival
LOCATION:Cecil Sharp House\, 2 Regent’s Park Road\, London \, NW1 7AY\, U
 nited Kingdom
X-APPLE-STRUCTURED-LOCATION;VALUE=URI;X-ADDRESS=2 Regent’s Park Road\, Lo
 ndon \, NW1 7AY\, United Kingdom;X-APPLE-RADIUS=100;X-TITLE=Cecil Sharp Ho
 use:geo:0,0
END:VEVENT
BEGIN:VTIMEZONE
TZID:Europe/London
X-LIC-LOCATION:Europe/London
BEGIN:DAYLIGHT
DTSTART:20250330T020000
TZOFFSETFROM:+0000
TZOFFSETTO:+0100
TZNAME:BST
END:DAYLIGHT
END:VTIMEZONE
END:VCALENDAR