BEGIN:VCALENDAR
VERSION:2.0
PRODID:-//wp-events-plugin.com//7.2.3.1//EN
TZID:Europe/London
X-WR-TIMEZONE:Europe/London
BEGIN:VEVENT
UID:359@friendsofenglishdance.org.uk
DTSTART;TZID=Europe/London:20251018T193000
DTEND;TZID=Europe/London:20251018T230000
DTSTAMP:20250630T191515Z
URL:https://friendsofenglishdance.org.uk/events/shocc-dances/
SUMMARY:SHOCC Dances
DESCRIPTION:English Ceilidh in the South\nOut of Hand with Fee Lock\n\nClic
 k here for more information.
CATEGORIES:Dance
LOCATION:The Hilt\, Hiltingbury Rd\,\, Chandler's Ford\, Hampshire\, SO53 5
 NP\, United Kingdom
X-APPLE-STRUCTURED-LOCATION;VALUE=URI;X-ADDRESS=Hiltingbury Rd\,\, Chandler
 's Ford\, Hampshire\, SO53 5NP\, United Kingdom;X-APPLE-RADIUS=100;X-TITLE
 =The Hilt:geo:0,0
END:VEVENT
BEGIN:VTIMEZONE
TZID:Europe/London
X-LIC-LOCATION:Europe/London
BEGIN:DAYLIGHT
DTSTART:20250330T020000
TZOFFSETFROM:+0000
TZOFFSETTO:+0100
TZNAME:BST
END:DAYLIGHT
END:VTIMEZONE
END:VCALENDAR