BEGIN:VCALENDAR
VERSION:2.0
PRODID:-//wp-events-plugin.com//7.2.3.1//EN
TZID:Europe/London
X-WR-TIMEZONE:Europe/London
BEGIN:VEVENT
UID:356@friendsofenglishdance.org.uk
DTSTART;TZID=Europe/London;VALUE=DATE:20250801
DTEND;TZID=Europe/London;VALUE=DATE:20250809
DTSTAMP:20250630T185617Z
URL:https://friendsofenglishdance.org.uk/events/sidmouth-folk-festival/
SUMMARY:Sidmouth Folk Festival
DESCRIPTION:Click here for more information.
CATEGORIES:Festival
END:VEVENT
BEGIN:VTIMEZONE
TZID:Europe/London
X-LIC-LOCATION:Europe/London
BEGIN:DAYLIGHT
DTSTART:20250330T020000
TZOFFSETFROM:+0000
TZOFFSETTO:+0100
TZNAME:BST
END:DAYLIGHT
END:VTIMEZONE
END:VCALENDAR