BEGIN:VCALENDAR
VERSION:2.0
PRODID:-//wp-events-plugin.com//7.2.3.1//EN
TZID:Europe/London
X-WR-TIMEZONE:Europe/London
BEGIN:VEVENT
UID:206@friendsofenglishdance.org.uk
DTSTART;TZID=Europe/London:20250516T193000
DTEND;TZID=Europe/London:20250516T223000
DTSTAMP:20250429T202724Z
URL:https://friendsofenglishdance.org.uk/events/tees-valley-ceilidhs-2/
SUMMARY:Tees Valley Ceilidhs
DESCRIPTION:Live music ceilidh with Fools Jig with Bob Carter.\n\n£8\, chi
 ldren free
CATEGORIES:Dance
LOCATION:Worsall Village Hall\, 3 Church Ln\, Yarm\, County Durham\,  TS15 
 9QB\, United Kingdom
X-APPLE-STRUCTURED-LOCATION;VALUE=URI;X-ADDRESS=3 Church Ln\, Yarm\, County
  Durham\,  TS15 9QB\, United Kingdom;X-APPLE-RADIUS=100;X-TITLE=Worsall Vi
 llage Hall:geo:0,0
END:VEVENT
BEGIN:VTIMEZONE
TZID:Europe/London
X-LIC-LOCATION:Europe/London
BEGIN:DAYLIGHT
DTSTART:20250330T020000
TZOFFSETFROM:+0000
TZOFFSETTO:+0100
TZNAME:BST
END:DAYLIGHT
END:VTIMEZONE
END:VCALENDAR