BEGIN:VCALENDAR
VERSION:2.0
PRODID:-//wp-events-plugin.com//7.2.3.1//EN
TZID:Europe/London
X-WR-TIMEZONE:Europe/London
BEGIN:VEVENT
UID:25@friendsofenglishdance.org.uk
DTSTART;TZID=Europe/London:20210206T193000
DTEND;TZID=Europe/London:20210206T203000
DTSTAMP:20241224T141152Z
URL:https://friendsofenglishdance.org.uk/events/the-callers-attitude-part-
 2/
SUMMARY:The Caller's Attitude Part 2
DESCRIPTION:Bruce Hamilton leads a follow up session providing an opportuni
 ty for callers to both reflect and plan for the future.
CATEGORIES:Callers' Exchange,FED Event
END:VEVENT
BEGIN:VTIMEZONE
TZID:Europe/London
X-LIC-LOCATION:Europe/London
BEGIN:STANDARD
DTSTART:20201025T010000
TZOFFSETFROM:+0100
TZOFFSETTO:+0000
TZNAME:GMT
END:STANDARD
END:VTIMEZONE
END:VCALENDAR