BEGIN:VCALENDAR
VERSION:2.0
PRODID:-//wp-events-plugin.com//7.2.3.1//EN
TZID:Europe/London
X-WR-TIMEZONE:Europe/London
BEGIN:VEVENT
UID:22@friendsofenglishdance.org.uk
DTSTART;TZID=Europe/London:20201121T193000
DTEND;TZID=Europe/London:20201121T203000
DTSTAMP:20241224T140938Z
URL:https://friendsofenglishdance.org.uk/events/the-callers-attitude/
SUMMARY:The Caller's Attitude
DESCRIPTION:Bruce Hamilton provides an opportunity for callers to both refl
 ect and plan for the future.
CATEGORIES:Callers' Exchange,FED Event
END:VEVENT
BEGIN:VTIMEZONE
TZID:Europe/London
X-LIC-LOCATION:Europe/London
BEGIN:STANDARD
DTSTART:20201025T010000
TZOFFSETFROM:+0100
TZOFFSETTO:+0000
TZNAME:GMT
END:STANDARD
END:VTIMEZONE
END:VCALENDAR