BEGIN:VCALENDAR
VERSION:2.0
PRODID:-//wp-events-plugin.com//7.2.3.1//EN
TZID:Europe/London
X-WR-TIMEZONE:Europe/London
BEGIN:VEVENT
UID:29@friendsofenglishdance.org.uk
DTSTART;TZID=Europe/London:20201024T193000
DTEND;TZID=Europe/London:20201024T203000
DTSTAMP:20241224T150210Z
URL:https://friendsofenglishdance.org.uk/events/the-chasm-opportunity-or-d
 oom/
SUMMARY:The Chasm: Opportunity or Doom
DESCRIPTION:You have to agree that\, whatever we call this thing we do - ma
 ybe "social folk dance" - it is hardly a mainstream activity. Yet despite 
 its small size\, it is a community riven with factionalism. Ceilidh dancer
 s rarely overlap with Playford dancers\, except a bit at festivals. Most c
 ontra dancers don't attend "Playford" dances. In North America\, callers t
 end to be either contra callers or ECD callers. Why have we divided into d
 ance sects when an outside observer would need some time to sift out the d
 ifferences from the common core? Is this a healthy situation? Could we - i
 ndividually and as groups - learn valuable things from one another? Cooper
 ate to raise the profile of folk dance? Rhianwen Davies and Victoria Yeoma
 ns are our panellists and Ali Messer is our host.\n\n&nbsp\;\n\nPlease not
 e that at the time of this programme\, the Friends of English Dance was kn
 own as the Friends of Cecil Sharp House. We are not affiliated with the En
 glish Folk Dance and Song Society and no longer have any connection with C
 ecil Sharp House.
CATEGORIES:FED Event,Webinar
END:VEVENT
BEGIN:VTIMEZONE
TZID:Europe/London
X-LIC-LOCATION:Europe/London
BEGIN:DAYLIGHT
DTSTART:20200329T020000
TZOFFSETFROM:+0000
TZOFFSETTO:+0100
TZNAME:BST
END:DAYLIGHT
END:VTIMEZONE
END:VCALENDAR