BEGIN:VCALENDAR
VERSION:2.0
PRODID:-//wp-events-plugin.com//7.2.3.1//EN
TZID:Europe/London
X-WR-TIMEZONE:Europe/London
BEGIN:VEVENT
UID:27@friendsofenglishdance.org.uk
DTSTART;TZID=Europe/London:20221118T193000
DTEND;TZID=Europe/London:20221118T203000
DTSTAMP:20250117T191924Z
URL:https://friendsofenglishdance.org.uk/events/town-hall-discussion-2/
SUMMARY:Town Hall Discussion No 2
DESCRIPTION:\n\n\nOn 18th November\, we will be hosting our first Town Hall
  discussion meeting on Zoom. In this meeting\, we want to get your views a
 bout what should be done at a national level to raise the profile of Engli
 sh Dance.­­\n\n\n\n\n\nThe Zoom link will be sent to all those on the FE
 D mailing list shortly before the meeting.\n\n\n\n\n
CATEGORIES:FED Event,Webinar
END:VEVENT
BEGIN:VTIMEZONE
TZID:Europe/London
X-LIC-LOCATION:Europe/London
BEGIN:STANDARD
DTSTART:20221030T010000
TZOFFSETFROM:+0100
TZOFFSETTO:+0000
TZNAME:GMT
END:STANDARD
END:VTIMEZONE
END:VCALENDAR