BEGIN:VCALENDAR
VERSION:2.0
PRODID:-//wp-events-plugin.com//7.2.3.1//EN
TZID:Europe/London
X-WR-TIMEZONE:Europe/London
BEGIN:VEVENT
UID:26@friendsofenglishdance.org.uk
DTSTART;TZID=Europe/London:20230201T193000
DTEND;TZID=Europe/London:20230201T203000
DTSTAMP:20241224T143916Z
URL:https://friendsofenglishdance.org.uk/events/town-hall-discussion/
SUMMARY:Town Hall Discussion
DESCRIPTION:\nIn our last Town Hall meeting\, someone commented that it was
  the music that drew people into the dance. Therefore\, our next Town Hall
  discussion meeting will be of interest to those who are interested in mus
 ic for dancing. Whether this is playing music for dance or using music for
  dance\, both live and recorded\, please join the discussion about how we 
 can use and develop this valuable resource.\n\n\n\n\n\nThe Zoom link will 
 be sent to all those on the FED mailing list shortly before the meeting.\n
 \n\n
CATEGORIES:FED Event,Webinar
END:VEVENT
BEGIN:VTIMEZONE
TZID:Europe/London
X-LIC-LOCATION:Europe/London
BEGIN:STANDARD
DTSTART:20221030T010000
TZOFFSETFROM:+0100
TZOFFSETTO:+0000
TZNAME:GMT
END:STANDARD
END:VTIMEZONE
END:VCALENDAR