BEGIN:VCALENDAR
VERSION:2.0
PRODID:-//wp-events-plugin.com//7.2.3.1//EN
TZID:Europe/London
X-WR-TIMEZONE:Europe/London
BEGIN:VEVENT
UID:608@friendsofenglishdance.org.uk
DTSTART;TZID=Europe/London:20261213T150000
DTEND;TZID=Europe/London:20261213T170000
DTSTAMP:20251231T172348Z
URL:https://friendsofenglishdance.org.uk/events/wassail-dec-26/
SUMMARY:Wassail - Copy
DESCRIPTION:Avoncroft Folk Dance Group are inviting the Worcestershire\nPla
 yers Group to provide the music for the Christmas Wassail. Festive singing
  and mince pies. In aid of charity.\n\nClick here for more information
CATEGORIES:Other
LOCATION:Avoncroft Arts Centre\, Redditch Road\,\, Stoke Heath\, Bromsgrove
 \, Worcestershire\, B60 4JP\, United Kingdom
X-APPLE-STRUCTURED-LOCATION;VALUE=URI;X-ADDRESS=Redditch Road\,\, Stoke Hea
 th\, Bromsgrove\, Worcestershire\, B60 4JP\, United Kingdom;X-APPLE-RADIUS
 =100;X-TITLE=Avoncroft Arts Centre:geo:0,0
END:VEVENT
BEGIN:VTIMEZONE
TZID:Europe/London
X-LIC-LOCATION:Europe/London
BEGIN:STANDARD
DTSTART:20261025T010000
TZOFFSETFROM:+0100
TZOFFSETTO:+0000
TZNAME:GMT
END:STANDARD
END:VTIMEZONE
END:VCALENDAR