BEGIN:VCALENDAR
VERSION:2.0
PRODID:-//wp-events-plugin.com//7.2.3.1//EN
TZID:Europe/London
X-WR-TIMEZONE:Europe/London
BEGIN:VEVENT
UID:28@friendsofenglishdance.org.uk
DTSTART;TZID=Europe/London:20210130T193000
DTEND;TZID=Europe/London:20210130T203000
DTSTAMP:20241224T144444Z
URL:https://friendsofenglishdance.org.uk/events/what-can-we-learn-from-con
 tra-about-sustaining-traditional-dance/
SUMMARY:With Your Neighbour: What can we learn from Contra about sustaining
  traditional dance?
DESCRIPTION:What can we learn from contra about sustaining traditional danc
 e? With Lisa Greenleaf\, Lindsey Kennedy\, Jane Curry\, and Andrew Findlay
 .\n\n&nbsp\;\n\nPlease note that at the time of this programme\, the Frien
 ds of English Dance was known as the Friends of Cecil Sharp House. We are 
 not affiliated with the English Folk Dance and Song Society and no longer 
 have any connection with Cecil Sharp House.
CATEGORIES:FED Event,Webinar
END:VEVENT
BEGIN:VTIMEZONE
TZID:Europe/London
X-LIC-LOCATION:Europe/London
BEGIN:STANDARD
DTSTART:20201025T010000
TZOFFSETFROM:+0100
TZOFFSETTO:+0000
TZNAME:GMT
END:STANDARD
END:VTIMEZONE
END:VCALENDAR