BEGIN:VCALENDAR
VERSION:2.0
PRODID:-//wp-events-plugin.com//7.2.3.1//EN
TZID:Europe/London
X-WR-TIMEZONE:Europe/London
BEGIN:VEVENT
UID:37@friendsofenglishdance.org.uk
DTSTART;TZID=Europe/London;VALUE=DATE:20250704
DTEND;TZID=Europe/London;VALUE=DATE:20250707
DTSTAMP:20250422T200541Z
URL:https://friendsofenglishdance.org.uk/events/yorkshire-folk-dance-weeke
 nd-2025/
SUMMARY:Yorkshire Folk Dance Weekend
DESCRIPTION:Drax\, Yorkshire between Selby (North Yorkshire) and Goole (Eas
 t Yorkshire)\n\nOur invited guests are: Geoff Cubitt\, Bernie Culkin\, Fra
 n Bulpit\, Philip Rowe &amp\; Dave Yeomans.\n\nFor more information: https
 ://yfdw.org.uk/
CATEGORIES:Weekend
LOCATION:Drax Social Club\, Main Rd\, Drax\, \, Selby \, Yorkshire\, YO8 8P
 J\, United Kingdom
X-APPLE-STRUCTURED-LOCATION;VALUE=URI;X-ADDRESS=Main Rd\, Drax\, \, Selby \
 , Yorkshire\, YO8 8PJ\, United Kingdom;X-APPLE-RADIUS=100;X-TITLE=Drax Soc
 ial Club:geo:0,0
END:VEVENT
BEGIN:VTIMEZONE
TZID:Europe/London
X-LIC-LOCATION:Europe/London
BEGIN:DAYLIGHT
DTSTART:20250330T020000
TZOFFSETFROM:+0000
TZOFFSETTO:+0100
TZNAME:BST
END:DAYLIGHT
END:VTIMEZONE
END:VCALENDAR